BEGIN:VCALENDAR
VERSION:2.0
PRODID:-//6G IA - ECPv6.15.20//NONSGML v1.0//EN
CALSCALE:GREGORIAN
METHOD:PUBLISH
X-WR-CALNAME:6G IA
X-ORIGINAL-URL:https://6g-ia.eu
X-WR-CALDESC:Events for 6G IA
REFRESH-INTERVAL;VALUE=DURATION:PT1H
X-Robots-Tag:noindex
X-PUBLISHED-TTL:PT1H
BEGIN:VTIMEZONE
TZID:Europe/Berlin
BEGIN:DAYLIGHT
TZOFFSETFROM:+0100
TZOFFSETTO:+0200
TZNAME:CEST
DTSTART:20210328T010000
END:DAYLIGHT
BEGIN:STANDARD
TZOFFSETFROM:+0200
TZOFFSETTO:+0100
TZNAME:CET
DTSTART:20211031T010000
END:STANDARD
BEGIN:DAYLIGHT
TZOFFSETFROM:+0100
TZOFFSETTO:+0200
TZNAME:CEST
DTSTART:20220327T010000
END:DAYLIGHT
BEGIN:STANDARD
TZOFFSETFROM:+0200
TZOFFSETTO:+0100
TZNAME:CET
DTSTART:20221030T010000
END:STANDARD
BEGIN:DAYLIGHT
TZOFFSETFROM:+0100
TZOFFSETTO:+0200
TZNAME:CEST
DTSTART:20230326T010000
END:DAYLIGHT
BEGIN:STANDARD
TZOFFSETFROM:+0200
TZOFFSETTO:+0100
TZNAME:CET
DTSTART:20231029T010000
END:STANDARD
END:VTIMEZONE
BEGIN:VEVENT
DTSTART;TZID=Europe/Berlin:20220928T090000
DTEND;TZID=Europe/Berlin:20220928T120000
DTSTAMP:20260421T154233
CREATED:20220712T133757Z
LAST-MODIFIED:20220921T120240Z
UID:17913-1664355600-1664366400@6g-ia.eu
SUMMARY:Workshop on 6G KPIs and how to measure them
DESCRIPTION:Workshop description \nThe 5G PPP Test Measurement and KPI Validation work group (TMV WG) invites you to join a workshop to reflect on 6G KPIs and how to measure them. \nBefore EUCNC\, the 5G PPP TMV released a white paper on “Beyond 5G/6G KPIs and Target Values”  based on input from 5G PPP ICT-52-2020 (ICT-52) projects. In this paper\, KPIs from the ICT-52 projects were collected\, described\, and related to existing 5G KPIs. Where available the target values for 6G were provided. \nIn the paper the KPIs were clustered in KPI families based on type and the area that the KPI concerns. As most of the ICT-52 projects were in an early stage at the time of the paper creation\, some of the KPI definitions and the target values and measurement techniques were often not fully defined. \nThe target of this workshop is to discuss the KPI definitions and which measurement techniques exists to monitor them. The workshops also intend to identify potential support for the ICT-52 projects. The workshop will also be the kick-off of the next iteration of the white paper on “Beyond 5G/6G KPIs and Target Values” where the aim is to further refine target values and the measurement techniques\, again based on input from the ICT-52 projects and the 5GPPP TMV working group. \nWe invite all participants to inform us if they would like to contribute to the workshop by September 9th. \nAgenda (preliminary):\n\n\n\nStart time\nTitle\nContent\n\n\n9:00\nWelcome\, Introduction\nTMV (Anastasius Gavras)\nOverview of the agenda\n\n\n9:05\nOverview of the B5G/6G KPI whitepaper\nTMV (Vangelis Kosmatos)\nTMV motivation and methodology for the B5G and 6G KPI paper\n\n\n9:15\nB5G/6G KPIs in ICT-52 projects\n(12 minutes each)\nRISE-6G\nThe Beyond 5G/6G KPIs and Target Values of the RISE-6G project.\n\n\nDEDICAT-6G\nDEDICAT-6G use cases and main B5G/6G KPIs to be addressed in the project\n\n\nHexa-X\nHexa-X vision on what to measure for 6G KPI.\n\n\nTeraFlow & IETF\nTeraFlow overview on network slicing benchmark testing\n\n\nDAEMON\nDAEMON presentation on B5G/6G KPIs and ways to measure/monitor\n\n\nAI@EDGE\nImplementation of a KPI template and tool\, based on the 5GPP standards\, describing important values for the 6G initiative\n\n\n10:30\n\n\nCoffee/tee break\n\n\n10:40\nB5G/6G KPIs in ICT-52 projects\n(12 minutes each)\nMARSAL\nKPIs for ML-Based\, Networking and Computing Infrastructure Resource Management of 6G Networks\n\n\n6G-BRAINS\n6G KPIs for industry environments\n\n\n11:05\nOverview of 5G Tools whitepaper\nTMV (Luca Valcarenghi)\nOverview of 5G Tools measurement and monitoring solutions (5G KPI centred)\n\n\n11:20\nB5G/6G KPI measurement techniques and challenges\n(12 minutes each)\nKeysight\nView from Keysight on B5G/6G measurement techniques\n\n\nACTA / VIAVI\nOverview of the current 5G state-of-the art measurement techniques and results in H2020 projects and then elaborate on the challenges and mythologies for B5G & 6G network validation\n\n\n11:45\nNext steps on the whitepaper and discussions\nTMV (Michael Dieudonne)\nInform about the next white paper effort.  Topical area of the white paper: list of questions and check what the audience is thinking. What are the real challenges on B5G and 6G KPIs. Methodologies? Tools? HW and SW limitations?\n\n\n12:00\nEnd\n\n\n\n\n\nRegistration:\nRegistration is via the 5G-PPP event webpage: https://5g-ppp.eu/event/workshop-on-6g-kpis-and-how-to-measure-them/
URL:https://6g-ia.eu/event/workshop-on-6g-kpis-and-how-to-measure-them/
END:VEVENT
END:VCALENDAR