BEGIN:VCALENDAR
VERSION:2.0
PRODID:-//6G IA - ECPv6.15.20//NONSGML v1.0//EN
CALSCALE:GREGORIAN
METHOD:PUBLISH
X-WR-CALNAME:6G IA
X-ORIGINAL-URL:https://6g-ia.eu
X-WR-CALDESC:Events for 6G IA
REFRESH-INTERVAL;VALUE=DURATION:PT1H
X-Robots-Tag:noindex
X-PUBLISHED-TTL:PT1H
BEGIN:VTIMEZONE
TZID:Europe/Berlin
BEGIN:DAYLIGHT
TZOFFSETFROM:+0100
TZOFFSETTO:+0200
TZNAME:CEST
DTSTART:20210328T010000
END:DAYLIGHT
BEGIN:STANDARD
TZOFFSETFROM:+0200
TZOFFSETTO:+0100
TZNAME:CET
DTSTART:20211031T010000
END:STANDARD
BEGIN:DAYLIGHT
TZOFFSETFROM:+0100
TZOFFSETTO:+0200
TZNAME:CEST
DTSTART:20220327T010000
END:DAYLIGHT
BEGIN:STANDARD
TZOFFSETFROM:+0200
TZOFFSETTO:+0100
TZNAME:CET
DTSTART:20221030T010000
END:STANDARD
BEGIN:DAYLIGHT
TZOFFSETFROM:+0100
TZOFFSETTO:+0200
TZNAME:CEST
DTSTART:20230326T010000
END:DAYLIGHT
BEGIN:STANDARD
TZOFFSETFROM:+0200
TZOFFSETTO:+0100
TZNAME:CET
DTSTART:20231029T010000
END:STANDARD
END:VTIMEZONE
BEGIN:VEVENT
DTSTART;TZID=Europe/Berlin:20221018T110000
DTEND;TZID=Europe/Berlin:20221018T134000
DTSTAMP:20260421T203101
CREATED:20220920T134057Z
LAST-MODIFIED:20220920T134057Z
UID:25180-1666090800-1666100400@6g-ia.eu
SUMMARY:Hexa-X Workshop @ Network X - Connectivity Redefined Cloud Reimagined Telco Reinvented
DESCRIPTION:On 18th October\, the Hexa-X project will be part of the event Network X – Connectivity Redefined Cloud Reimagined Telco Reinvented (networkxevent.com) in Amsterdam with a workshop involving international stakeholders on 6G as part of networkxevent (Broadband World Forum\, 5G World\, Telco Cloud) \nDespite a target of commercial 6G deployments at the end of this decade\, globally significant research efforts towards 6G have been ongoing for some time and requirement analysis in 3GPP is not far in the future. In 2030 and beyond\, the world will face challenges and opportunities for growth and sustainability while proactively tackling the issues of green deal efficiency\, digital inclusion\, and protection of health and safety in a post-pandemic world. Wireless technologies are critical for our society and economy today; their importance for growth will continue to increase steadily. This panel will give a global update on the current status of actions towards 6G. \n11.00 – 11.10: 6G IA introduction and view – Colin Willcock\, 6G IA \n11.10 – 11.20: Hexa-X general introduction – Mikko Uusitalo\, Hexa-X\, Nokia \n11.30 – 11.50: Update from Next-G Alliance– Mitch Tseng\, ITRI \n11.50 – 12.10: Update from Hexa-X group on AI-driven communication & computation co-design: initial solutions\, Panagiotis Demestichas\, Hexa-X\, Wings \n12.10 – 12.30: Update from Hexa-X group on Design of service management and orchestration functionalities or Special-purpose functionalities: intermediate solutions\, Jose Ordonez-Lucena\, Hexa-X\, Telefonica \n12.30 – 12.50: Perspective from Japan\, Satoshi KONISHI\, KDDI \n12.50 – 13.10: Perspective from China\, Liu Guangyi\, China Mobile \n13.10 – 13.30: Placeholder \n13.30 – 13.40: Hexa-X concluding remarks\, Mikko Uusitalo\, Hexa-X\, Nokia \n  \nPlease choose your pass to this event and book your seat at the workshop here. \n 
URL:https://6g-ia.eu/event/hexa-x-workshop-network-x-connectivity-redefined-cloud-reimagined-telco-reinvented/
END:VEVENT
END:VCALENDAR