BEGIN:VCALENDAR
VERSION:2.0
PRODID:-//6G IA - ECPv6.15.20//NONSGML v1.0//EN
CALSCALE:GREGORIAN
METHOD:PUBLISH
X-WR-CALNAME:6G IA
X-ORIGINAL-URL:https://6g-ia.eu
X-WR-CALDESC:Events for 6G IA
REFRESH-INTERVAL;VALUE=DURATION:PT1H
X-Robots-Tag:noindex
X-PUBLISHED-TTL:PT1H
BEGIN:VTIMEZONE
TZID:Europe/Berlin
BEGIN:DAYLIGHT
TZOFFSETFROM:+0100
TZOFFSETTO:+0200
TZNAME:CEST
DTSTART:20210328T010000
END:DAYLIGHT
BEGIN:STANDARD
TZOFFSETFROM:+0200
TZOFFSETTO:+0100
TZNAME:CET
DTSTART:20211031T010000
END:STANDARD
BEGIN:DAYLIGHT
TZOFFSETFROM:+0100
TZOFFSETTO:+0200
TZNAME:CEST
DTSTART:20220327T010000
END:DAYLIGHT
BEGIN:STANDARD
TZOFFSETFROM:+0200
TZOFFSETTO:+0100
TZNAME:CET
DTSTART:20221030T010000
END:STANDARD
BEGIN:DAYLIGHT
TZOFFSETFROM:+0100
TZOFFSETTO:+0200
TZNAME:CEST
DTSTART:20230326T010000
END:DAYLIGHT
BEGIN:STANDARD
TZOFFSETFROM:+0200
TZOFFSETTO:+0100
TZNAME:CET
DTSTART:20231029T010000
END:STANDARD
END:VTIMEZONE
BEGIN:VEVENT
DTSTART;TZID=Europe/Berlin:20220530T090000
DTEND;TZID=Europe/Berlin:20220602T170000
DTSTAMP:20260421T170144
CREATED:20220510T132548Z
LAST-MODIFIED:20220513T085251Z
UID:17436-1653901200-1654189200@6g-ia.eu
SUMMARY:Hannover Messe
DESCRIPTION:  \n \nAt HANNOVER MESSE 2022\, the 6G-IA’s 5G partners will showcase their exciting and innovative use cases from 30 May – 2 June. \nWhether in the halls on our exhibition grounds or in the outdoor area: Our 5G Campus network makes it possible! \n \nJoin also our conferences and meet the experts at the 5G Competence Centre in hall 9. We are looking forward to your visit. \nAdditional details on https://www.hannovermesse.de/en/ \nYour personal ticket: https://bit.ly/HANNOVERMESSE2022_6G-IA
URL:https://6g-ia.eu/event/hannover-messe-2-2/
END:VEVENT
END:VCALENDAR