BEGIN:VCALENDAR
VERSION:2.0
PRODID:-//6G IA - ECPv6.15.20//NONSGML v1.0//EN
CALSCALE:GREGORIAN
METHOD:PUBLISH
X-WR-CALNAME:6G IA
X-ORIGINAL-URL:https://6g-ia.eu
X-WR-CALDESC:Events for 6G IA
REFRESH-INTERVAL;VALUE=DURATION:PT1H
X-Robots-Tag:noindex
X-PUBLISHED-TTL:PT1H
BEGIN:VTIMEZONE
TZID:Europe/Berlin
BEGIN:DAYLIGHT
TZOFFSETFROM:+0100
TZOFFSETTO:+0200
TZNAME:CEST
DTSTART:20210328T010000
END:DAYLIGHT
BEGIN:STANDARD
TZOFFSETFROM:+0200
TZOFFSETTO:+0100
TZNAME:CET
DTSTART:20211031T010000
END:STANDARD
BEGIN:DAYLIGHT
TZOFFSETFROM:+0100
TZOFFSETTO:+0200
TZNAME:CEST
DTSTART:20220327T010000
END:DAYLIGHT
BEGIN:STANDARD
TZOFFSETFROM:+0200
TZOFFSETTO:+0100
TZNAME:CET
DTSTART:20221030T010000
END:STANDARD
BEGIN:DAYLIGHT
TZOFFSETFROM:+0100
TZOFFSETTO:+0200
TZNAME:CEST
DTSTART:20230326T010000
END:DAYLIGHT
BEGIN:STANDARD
TZOFFSETFROM:+0200
TZOFFSETTO:+0100
TZNAME:CET
DTSTART:20231029T010000
END:STANDARD
END:VTIMEZONE
BEGIN:VEVENT
DTSTART;TZID=Europe/Berlin:20221010T090000
DTEND;TZID=Europe/Berlin:20221014T170000
DTSTAMP:20260421T170145
CREATED:20220729T130757Z
LAST-MODIFIED:20220729T130757Z
UID:25169-1665392400-1665766800@6g-ia.eu
SUMMARY:ETSI IoT Week
DESCRIPTION:ETSI is pleased to announce the availability of the full ETSI IoT Week 2022  Programme  “Pursuing Digital and Green Transformation”. \nThe ETSI IoT Week (www.etsi.org/IoTweek) will take place physically on 10-14 October 2022 in ETSI’s Headquarters in Sophia Antipolis\, South of France. \n  \nThis gathering of IoT experts has become a must-attend event for anyone involved in IoT and who understands the importance of standard-enabled technologies for IoT service deployments. \nThis event is free of charge and open to all upon registration. \nDo not miss this opportunity to network again with your fellow professionals and register now!  \n  \nThe ETSI IoT Week comprises the following events: \n\nA Tutorial on ontologies and semantic interoperability for IoT\,  on 10 October;\nThe tutorial is targeted at IoT application developers and will explain what ontologies are\, how they are built and extended\, and how you can get involved in ETSI’s current work on the topic. Register here to attend the tutorial.\n\n  \n\nThe ETSI  IoT Conference on 11-14 October\n\nThe ETSI IoT Conference will offer an up-to-date overview of the major European and global trends in IoT services\, technology innovations\, deployments\, and the relevant standardization work. \nIn particular\, the edition will focus on: \n\nIoT technologies and innovations (semantics and ontologies\, digital twins\, IoT and edge\, IoT and AI among others);\nIoT for a better life\, including digital and green transformation and eHealth;\nHorizontal ETSI IoT standards for the vertical business sectors.\n\nRegister here to attend the Conference. \n  \n\nDemonstrations of IoT in action\, 11-13 October\n\nUp to 10 demonstrations showcasing use cases and technologies in support of the digital and green transformation will take place during the conference networking breaks. \nDo not miss this opportunity to connect with a community of IoT Experts in a unique social atmosphere! \n  \nETSI is looking forward to welcoming you to its  premises for the ETSI IoT Week 2022!
URL:https://6g-ia.eu/event/etsi-iot-week-2/
END:VEVENT
END:VCALENDAR