BEGIN:VCALENDAR
VERSION:2.0
PRODID:-//6G IA - ECPv6.15.20//NONSGML v1.0//EN
CALSCALE:GREGORIAN
METHOD:PUBLISH
X-WR-CALNAME:6G IA
X-ORIGINAL-URL:https://6g-ia.eu
X-WR-CALDESC:Events for 6G IA
REFRESH-INTERVAL;VALUE=DURATION:PT1H
X-Robots-Tag:noindex
X-PUBLISHED-TTL:PT1H
BEGIN:VTIMEZONE
TZID:Europe/Berlin
BEGIN:DAYLIGHT
TZOFFSETFROM:+0100
TZOFFSETTO:+0200
TZNAME:CEST
DTSTART:20210328T010000
END:DAYLIGHT
BEGIN:STANDARD
TZOFFSETFROM:+0200
TZOFFSETTO:+0100
TZNAME:CET
DTSTART:20211031T010000
END:STANDARD
BEGIN:DAYLIGHT
TZOFFSETFROM:+0100
TZOFFSETTO:+0200
TZNAME:CEST
DTSTART:20220327T010000
END:DAYLIGHT
BEGIN:STANDARD
TZOFFSETFROM:+0200
TZOFFSETTO:+0100
TZNAME:CET
DTSTART:20221030T010000
END:STANDARD
BEGIN:DAYLIGHT
TZOFFSETFROM:+0100
TZOFFSETTO:+0200
TZNAME:CEST
DTSTART:20230326T010000
END:DAYLIGHT
BEGIN:STANDARD
TZOFFSETFROM:+0200
TZOFFSETTO:+0100
TZNAME:CET
DTSTART:20231029T010000
END:STANDARD
END:VTIMEZONE
BEGIN:VEVENT
DTSTART;TZID=Europe/Berlin:20220210T090000
DTEND;TZID=Europe/Berlin:20220210T174500
DTSTAMP:20260425T180126
CREATED:20220131T155814Z
LAST-MODIFIED:20220131T155814Z
UID:24794-1644483600-1644515100@6g-ia.eu
SUMMARY:ECO6G
DESCRIPTION:The i2CAT Foundation is pleased to invite you to join on Thursday 10th February 2022 @ 9:15-17:45 CET\, for the first edition of ECO6G\, a hybrid event organized by  and born to become an international reference point for 6G discussions. \nFor this first edition\, key 5G and future 6G stakeholders will virtually sit together to discuss 6G from a European perspective\, providing both the unified vision of Europe as a leading world region in 5G\, and also giving voice to the individual initiatives put in place by the different member states. \nPeter Stuckmann\, Interim Executive Director of the Smart Networks and Services Joint Undertaking and Head of Unit\, Future Connectivity Systems at European Commission\, and Colin Willcock\, Chairman of the 6G-IA and Chairman of the Governing Board of the SNS JU\, will be among the speakers. \n  \nWebsite and full agenda: https://eco6g.com/ \nFree and needed registration: https://eco6g.com/register \nECO6G proposes a dynamic and interactive live broadcast\, driven by a professional conductor who will lead the event physically from a television set in Barcelona\, and will create the space for interaction among speakers and the remote audience. \n  \nAttendees will have the opportunity to join for free and virtually from anywhere in the world\, using a high-quality and reliable streaming service\, and will be able to interact with the speakers for an open discussion. \n  \nThe full-day agenda is mainly composed of 6 blocks of 60 minutes each\, including: \n\nEuropean Vision\, with main focus on the European SNS JU.\nEuropean Initiatives.\n6G: What users need.\n6G Community: a researcher’s perspective.\nThe operator’s perspective on 6G.\nThe provider’s perspective on 6G.
URL:https://6g-ia.eu/event/eco6g/
END:VEVENT
END:VCALENDAR