BEGIN:VCALENDAR
VERSION:2.0
PRODID:-//6G IA - ECPv6.15.20//NONSGML v1.0//EN
CALSCALE:GREGORIAN
METHOD:PUBLISH
X-WR-CALNAME:6G IA
X-ORIGINAL-URL:https://6g-ia.eu
X-WR-CALDESC:Events for 6G IA
REFRESH-INTERVAL;VALUE=DURATION:PT1H
X-Robots-Tag:noindex
X-PUBLISHED-TTL:PT1H
BEGIN:VTIMEZONE
TZID:Europe/Berlin
BEGIN:DAYLIGHT
TZOFFSETFROM:+0100
TZOFFSETTO:+0200
TZNAME:CEST
DTSTART:20210328T010000
END:DAYLIGHT
BEGIN:STANDARD
TZOFFSETFROM:+0200
TZOFFSETTO:+0100
TZNAME:CET
DTSTART:20211031T010000
END:STANDARD
BEGIN:DAYLIGHT
TZOFFSETFROM:+0100
TZOFFSETTO:+0200
TZNAME:CEST
DTSTART:20220327T010000
END:DAYLIGHT
BEGIN:STANDARD
TZOFFSETFROM:+0200
TZOFFSETTO:+0100
TZNAME:CET
DTSTART:20221030T010000
END:STANDARD
BEGIN:DAYLIGHT
TZOFFSETFROM:+0100
TZOFFSETTO:+0200
TZNAME:CEST
DTSTART:20230326T010000
END:DAYLIGHT
BEGIN:STANDARD
TZOFFSETFROM:+0200
TZOFFSETTO:+0100
TZNAME:CET
DTSTART:20231029T010000
END:STANDARD
END:VTIMEZONE
BEGIN:VEVENT
DTSTART;TZID=Europe/Berlin:20220915T123000
DTEND;TZID=Europe/Berlin:20220916T170000
DTSTAMP:20260421T153145
CREATED:20220729T132004Z
LAST-MODIFIED:20220729T132004Z
UID:17981-1663245000-1663347600@6g-ia.eu
SUMMARY:6G Global Summit
DESCRIPTION:The global race towards 6G has begun. Initial work on early visions and on setting technical goals and standards is well underway. As we embark on the exciting new path towards a future hyper-connected world\, the 6G Global Summit will bring together top-level industry and policy representatives from across the globe\, and provide a platform to help enable the co-ordination and collaboration that is required as stakeholders in different regions start to explore the challenges and opportunities that lay ahead. \n  \nThemes to be discussed include: \n\nLessons from the ‘G’ revolution\n6G use cases and technologies\nR&D and standards – avoiding fragmentation\nChallenges\, drivers and enabling technologies\nNew spectrum bands and licensing models\n6G and key societal goals\n\n  \nThe event will take place virtually\, for more information on the agenda\, speakers and to register for your free place\, please visit www.global6gsummit.com. \n 
URL:https://6g-ia.eu/event/6g-global-summit/
END:VEVENT
END:VCALENDAR