BEGIN:VCALENDAR
VERSION:2.0
PRODID:-//6G IA - ECPv6.15.20//NONSGML v1.0//EN
CALSCALE:GREGORIAN
METHOD:PUBLISH
X-WR-CALNAME:6G IA
X-ORIGINAL-URL:https://6g-ia.eu
X-WR-CALDESC:Events for 6G IA
REFRESH-INTERVAL;VALUE=DURATION:PT1H
X-Robots-Tag:noindex
X-PUBLISHED-TTL:PT1H
BEGIN:VTIMEZONE
TZID:Europe/Berlin
BEGIN:DAYLIGHT
TZOFFSETFROM:+0100
TZOFFSETTO:+0200
TZNAME:CEST
DTSTART:20200329T010000
END:DAYLIGHT
BEGIN:STANDARD
TZOFFSETFROM:+0200
TZOFFSETTO:+0100
TZNAME:CET
DTSTART:20201025T010000
END:STANDARD
BEGIN:DAYLIGHT
TZOFFSETFROM:+0100
TZOFFSETTO:+0200
TZNAME:CEST
DTSTART:20210328T010000
END:DAYLIGHT
BEGIN:STANDARD
TZOFFSETFROM:+0200
TZOFFSETTO:+0100
TZNAME:CET
DTSTART:20211031T010000
END:STANDARD
BEGIN:DAYLIGHT
TZOFFSETFROM:+0100
TZOFFSETTO:+0200
TZNAME:CEST
DTSTART:20220327T010000
END:DAYLIGHT
BEGIN:STANDARD
TZOFFSETFROM:+0200
TZOFFSETTO:+0100
TZNAME:CET
DTSTART:20221030T010000
END:STANDARD
END:VTIMEZONE
BEGIN:VEVENT
DTSTART;TZID=Europe/Berlin:20210623T080000
DTEND;TZID=Europe/Berlin:20210625T170000
DTSTAMP:20260425T235052
CREATED:20210621T122422Z
LAST-MODIFIED:20210621T122422Z
UID:19933-1624435200-1624640400@6g-ia.eu
SUMMARY:5GZORRO @ 16th European Spectrum Management Conference
DESCRIPTION:5GZORRO will be presenting a Virtual Booth with live interaction from 23 to 25 June at the 16th European Spectrum Management Conference. \nThe Conference is targeting policymakers\, regulators\, and industry stakeholders from mobile\, satellite\, broadcast\, public safety\, among others. Speakes include: Gilles Brégant\, Director General ANFr\, Philip Marnink\, Spectrum Group Director Ofcom\, Thomas Heutmann\, Head of Section on Fixed Service BNetzA\,  Voichita Valcea\, Spectrum Management Expert ANCOM Romania\, Kyriakos Baxevanidis\, Acting Head of Unit\, Spectrum Policy Unit European Commission and Rita Wezenbeek Director for Connectivity DG CONNECT\, European Commission\, Mario Maniewicz\, Director Radiocommunication Bureau ITU\, Frank Krüger\, Chairman RSPG\, Jonas Wessel\, Chair Sub-group on New Radio Spectrum Policy RSPG\, Elodie Viau\, Director of Telecommunications a\,d Integrated Applications European Space Agency. \n\n\n\n\n\n\n\n\n\nKey Themes include: \n\nThe new Radio Spectrum Policy Programme – key priorities\, aims and objectives\nDelivering a co-ordinated European approach for vertical connectivity\nTechnology and policy tools to increase spectrum efficiency\nA focus on key spectrum bands: 600MHz\, 3.3 – 4.2 GHz\, Upper 6GHz and mmWave\nTo WRC-23 and beyond…spectrum for the next generation of connectivity\nThe Spectrum ‘Shorts’ – mini roundtables focussing on FWA\, EMF limits & Next-Gen Space  Connectivity\n\n\n\n\n\n\n\n\n\n\n5GZORRO willl share its outcomes on Spectrum Sharing and present the research and development of our Use Case 2: Dynamic Spectrum Allocation. \nPlease register and talk directly with 5GZORRO Experts in the dedicated Expo Virtual Booth!
URL:https://6g-ia.eu/event/5gzorro-16th-european-spectrum-management-conference-2/
END:VEVENT
END:VCALENDAR