BEGIN:VCALENDAR
VERSION:2.0
PRODID:-//6G IA - ECPv6.15.20//NONSGML v1.0//EN
CALSCALE:GREGORIAN
METHOD:PUBLISH
X-WR-CALNAME:6G IA
X-ORIGINAL-URL:https://6g-ia.eu
X-WR-CALDESC:Events for 6G IA
REFRESH-INTERVAL;VALUE=DURATION:PT1H
X-Robots-Tag:noindex
X-PUBLISHED-TTL:PT1H
BEGIN:VTIMEZONE
TZID:Europe/Berlin
BEGIN:DAYLIGHT
TZOFFSETFROM:+0100
TZOFFSETTO:+0200
TZNAME:CEST
DTSTART:20210328T010000
END:DAYLIGHT
BEGIN:STANDARD
TZOFFSETFROM:+0200
TZOFFSETTO:+0100
TZNAME:CET
DTSTART:20211031T010000
END:STANDARD
BEGIN:DAYLIGHT
TZOFFSETFROM:+0100
TZOFFSETTO:+0200
TZNAME:CEST
DTSTART:20220327T010000
END:DAYLIGHT
BEGIN:STANDARD
TZOFFSETFROM:+0200
TZOFFSETTO:+0100
TZNAME:CET
DTSTART:20221030T010000
END:STANDARD
BEGIN:DAYLIGHT
TZOFFSETFROM:+0100
TZOFFSETTO:+0200
TZNAME:CEST
DTSTART:20230326T010000
END:DAYLIGHT
BEGIN:STANDARD
TZOFFSETFROM:+0200
TZOFFSETTO:+0100
TZNAME:CET
DTSTART:20231029T010000
END:STANDARD
END:VTIMEZONE
BEGIN:VEVENT
DTSTART;TZID=Europe/Berlin:20220510T073000
DTEND;TZID=Europe/Berlin:20220510T150000
DTSTAMP:20260421T203101
CREATED:20220503T093912Z
LAST-MODIFIED:20220503T093912Z
UID:17413-1652167800-1652194800@6g-ia.eu
SUMMARY:5G-SMART Trial Open Day in Kista on May 10\, 2022
DESCRIPTION:5G will be a key enabler for realizing the vision of highly efficient\, connected\, and flexible factories. In the 5G-SMART research collaboration project\, Ericsson\, industry partners and academia have been analyzing\, validating and demonstrating how 5G can improve manufacturing. \nYou are invited to learn more about the future of 5G in manufacturing including our two keynotes as well as presentations of the project results and all three trials: \n\n5G-empowered robotics at the Ericsson smart factory in Kista\, Sweden\n5G-enhanced manufacturing processes at the IPT Fraunhofer shopfloor in Aachen\, Germany\n5G for enhanced factory automation at the Bosch semiconductor factory in Reutlingen\, Germany\n\nFor the on-site audience there will be the possibility to visit the Kista trial site. \nThese testbeds examine and evaluate the opportunities of 5G in several industrial use cases and thereby provide key insights and valuable feedback to all stakeholders in industrial 5G. All 3 trial sites are endorsed by 5G-ACIA. \nRegister here. \n  \nProgram (8:30 -16:00 on site Kista CEST  / 9:30-12:00 online CEST) \n08:30-09:00 Mingle (on-site only)  \n\n09:00-09:15 Welcome and opening\nLeefke Grosjean\, Ericsson\, Project Manager 5G-SMART\, Krister Landernäs\, ABB\, Technical Manager 5G-SMART\n09:15-09:45 Keynote – “Towards Autonomous Robots – Role of Wireless Communication”\, Xiaolong Feng\, PhD\, Docent\, Business Area Research Manager\, ABB Robotics and Discrete Automation\n09:45-10:15 5G integration and enhancement for smart manufacturing\nBerna Sayrac\, Orange; Dhruvin Patel\, Ericsson\n\n10:15-10:30 Coffee break  \n\n10:30-11:00 Keynote – “5G in industries – today and tomorrow”\,\nMikael Prytz\, PhD\, Research Director\, Research Area Networks\, Ericsson\n11:00-11:45 Overview of the trials and discussions\,\nOgnjen Dobrijevic\, ABB; Niels König\, Fraunhofer IPT; Davit Harutyunyan\, Bosch\n11:45-12:00 Q&A\n\n12:00-13:30 Lunch break \n13:30-16:00 Trial site deep dives (on-site only) \n\n30-minute On-site visits in smaller groups to the Kista trial demo\nPresentations from Aachen trial site\nPresentations from Reutlingen trial site
URL:https://6g-ia.eu/event/5g-smart-trial-open-day-in-kista-on-may-10-2022/
END:VEVENT
END:VCALENDAR