BEGIN:VCALENDAR
VERSION:2.0
PRODID:-//6G IA - ECPv6.15.20//NONSGML v1.0//EN
CALSCALE:GREGORIAN
METHOD:PUBLISH
X-WR-CALNAME:6G IA
X-ORIGINAL-URL:https://6g-ia.eu
X-WR-CALDESC:Events for 6G IA
REFRESH-INTERVAL;VALUE=DURATION:PT1H
X-Robots-Tag:noindex
X-PUBLISHED-TTL:PT1H
BEGIN:VTIMEZONE
TZID:Europe/Berlin
BEGIN:DAYLIGHT
TZOFFSETFROM:+0100
TZOFFSETTO:+0200
TZNAME:CEST
DTSTART:20210328T010000
END:DAYLIGHT
BEGIN:STANDARD
TZOFFSETFROM:+0200
TZOFFSETTO:+0100
TZNAME:CET
DTSTART:20211031T010000
END:STANDARD
BEGIN:DAYLIGHT
TZOFFSETFROM:+0100
TZOFFSETTO:+0200
TZNAME:CEST
DTSTART:20220327T010000
END:DAYLIGHT
BEGIN:STANDARD
TZOFFSETFROM:+0200
TZOFFSETTO:+0100
TZNAME:CET
DTSTART:20221030T010000
END:STANDARD
BEGIN:DAYLIGHT
TZOFFSETFROM:+0100
TZOFFSETTO:+0200
TZNAME:CEST
DTSTART:20230326T010000
END:DAYLIGHT
BEGIN:STANDARD
TZOFFSETFROM:+0200
TZOFFSETTO:+0100
TZNAME:CET
DTSTART:20231029T010000
END:STANDARD
END:VTIMEZONE
BEGIN:VEVENT
DTSTART;TZID=Europe/Berlin:20220620T150000
DTEND;TZID=Europe/Berlin:20220620T163000
DTSTAMP:20260421T220613
CREATED:20220526T082747Z
LAST-MODIFIED:20220526T082747Z
UID:24825-1655737200-1655742600@6g-ia.eu
SUMMARY:5G-MOBIX webinar on results for the French Trial site
DESCRIPTION:5G-MOBIX trial sites include two Cross-Border Corridors (Greece-Turkey and Spain-Portugal) and six local Trial Sites in France\, Germany\, Netherlands\, Finland\, China and South Korea\, which are bringing complementary insights to the cross-border issues trialled at the Corridors. Together\, they have been assessing the added value of 5G connectivity for connected and Automated Mobility (CAM) services and functionalities in cross-border conditions. \nThe local Trial Sites have completed their work\, some public demonstration events were organised to showcase the results\, and these Trial Sites are now holding “catch-up” online sessions for wider audiences during which videos of the demonstrations and/ or trials will be played and commented. The Trial Site teams will present their results and lessons learnt and answer all questions in relation. \nThe webinar for the French Trial Site will take place on 20 June 2022\, 15:00-16:30 CET (details & registration). The French Trial Site contributions are related to service continuity and dynamic communication quality aspects for the infrastructure-assisted advanced driving use case. The webinar will present the outcome of their trials and results obtained in relation. It will also include video demonstrations of the tested solutions and a Q&A session to exhaust all questions on our experts’ work and lessons learnt.
URL:https://6g-ia.eu/event/5g-mobix-webinar-on-results-for-the-french-trial-site/
END:VEVENT
END:VCALENDAR