BEGIN:VCALENDAR
VERSION:2.0
PRODID:-//6G IA - ECPv6.15.20//NONSGML v1.0//EN
CALSCALE:GREGORIAN
METHOD:PUBLISH
X-WR-CALNAME:6G IA
X-ORIGINAL-URL:https://6g-ia.eu
X-WR-CALDESC:Events for 6G IA
REFRESH-INTERVAL;VALUE=DURATION:PT1H
X-Robots-Tag:noindex
X-PUBLISHED-TTL:PT1H
BEGIN:VTIMEZONE
TZID:Europe/Berlin
BEGIN:DAYLIGHT
TZOFFSETFROM:+0100
TZOFFSETTO:+0200
TZNAME:CEST
DTSTART:20200329T010000
END:DAYLIGHT
BEGIN:STANDARD
TZOFFSETFROM:+0200
TZOFFSETTO:+0100
TZNAME:CET
DTSTART:20201025T010000
END:STANDARD
BEGIN:DAYLIGHT
TZOFFSETFROM:+0100
TZOFFSETTO:+0200
TZNAME:CEST
DTSTART:20210328T010000
END:DAYLIGHT
BEGIN:STANDARD
TZOFFSETFROM:+0200
TZOFFSETTO:+0100
TZNAME:CET
DTSTART:20211031T010000
END:STANDARD
BEGIN:DAYLIGHT
TZOFFSETFROM:+0100
TZOFFSETTO:+0200
TZNAME:CEST
DTSTART:20220327T010000
END:DAYLIGHT
BEGIN:STANDARD
TZOFFSETFROM:+0200
TZOFFSETTO:+0100
TZNAME:CET
DTSTART:20221030T010000
END:STANDARD
END:VTIMEZONE
BEGIN:VEVENT
DTSTART;TZID=Europe/Berlin:20210714T120000
DTEND;TZID=Europe/Berlin:20210714T133000
DTSTAMP:20260425T221928
CREATED:20210625T064428Z
LAST-MODIFIED:20210625T064428Z
UID:19236-1626264000-1626269400@6g-ia.eu
SUMMARY:5G-MOBIX webinar on ‘Challenges and recommendations to 5G for CAM deployment in Cross-border scenarios’
DESCRIPTION:5G-MOBIX develops and tests automated vehicle functionalities using 5G core technological innovations along multiple cross-border corridors and urban trial sites\, under conditions of vehicular traffic\, network coverage\, service demand\, as well as considering the inherently distinct legal\, business and social local aspects. \nThis webinar will take place on Wed. 14th July\, 2021\, 12:00- 13:30 pm CEST. It focuses on the analysis of the challenges surrounding 5G for CAM deployment in cross border scenarios\, as well as recommendations on Deployment Enablers stemming from the experience of the project. 5G-MOBIX aims to prepare the path with targeted suggestions and knowledge sharing in order to create awareness and\, as an effect\, build trust on the topic of 5G as a crucial CAM cornerstone. \nRegistration is free here. \n 
URL:https://6g-ia.eu/event/5g-mobix-webinar-on-challenges-and-recommendations-to-5g-for-cam-deployment-in-cross-border-scenarios/
END:VEVENT
END:VCALENDAR