BEGIN:VCALENDAR
VERSION:2.0
PRODID:-//6G IA - ECPv6.15.20//NONSGML v1.0//EN
CALSCALE:GREGORIAN
METHOD:PUBLISH
X-WR-CALNAME:6G IA
X-ORIGINAL-URL:https://6g-ia.eu
X-WR-CALDESC:Events for 6G IA
REFRESH-INTERVAL;VALUE=DURATION:PT1H
X-Robots-Tag:noindex
X-PUBLISHED-TTL:PT1H
BEGIN:VTIMEZONE
TZID:Europe/Berlin
BEGIN:DAYLIGHT
TZOFFSETFROM:+0100
TZOFFSETTO:+0200
TZNAME:CEST
DTSTART:20190331T010000
END:DAYLIGHT
BEGIN:STANDARD
TZOFFSETFROM:+0200
TZOFFSETTO:+0100
TZNAME:CET
DTSTART:20191027T010000
END:STANDARD
BEGIN:DAYLIGHT
TZOFFSETFROM:+0100
TZOFFSETTO:+0200
TZNAME:CEST
DTSTART:20200329T010000
END:DAYLIGHT
BEGIN:STANDARD
TZOFFSETFROM:+0200
TZOFFSETTO:+0100
TZNAME:CET
DTSTART:20201025T010000
END:STANDARD
BEGIN:DAYLIGHT
TZOFFSETFROM:+0100
TZOFFSETTO:+0200
TZNAME:CEST
DTSTART:20210328T010000
END:DAYLIGHT
BEGIN:STANDARD
TZOFFSETFROM:+0200
TZOFFSETTO:+0100
TZNAME:CET
DTSTART:20211031T010000
END:STANDARD
END:VTIMEZONE
BEGIN:VEVENT
DTSTART;TZID=Europe/Berlin:20200916T150000
DTEND;TZID=Europe/Berlin:20200916T163000
DTSTAMP:20260426T044140
CREATED:20200908T154903Z
LAST-MODIFIED:20200908T154903Z
UID:14395-1600268400-1600273800@6g-ia.eu
SUMMARY:5G MOBIX Evaluation Framework: webinar nr. 4
DESCRIPTION:The 4th 5G-MOBIX Webinar will take place on September 16th\, 2020 on the topic “5G-MOBIX Evaluation Framework” @15.00-16.30 (CEST). \nThis webinar is organized to present the Evaluation Framework of 5G-MOBIX. \n  \nAn overview of the project’s evaluation framework will be provided\, specifying the evaluation objectives. Discussions will include information regarding the evaluation methodology\, selected KPIs\, measurement tools\, and data management processes\, across the different corridors and local trial sites. \n  \nTaking a holistic approach\, the project will further present the activities on assessing the potential business and societal impacts of the systems and applications demonstrated in 5G-MOBIX cross-border corridors and trial sites. This will also include aspects related to the user perception of technological advances and the corresponding acceptance of solutions. \n  \nRegistration is free of charge and is now open here. \nAgenda & further description here.  \nTo read more about the webinar’s speakers\, click here. \n  \nWebinar details in brief: \nWhen: 16.09.20 – 15:00 to 16:30 CEST \nWhere: Virtual \n 
URL:https://6g-ia.eu/event/5g-mobix-webinar-5g-mobix-evaluation-framework/
LOCATION:leonardo
ATTACH;FMTTYPE=:
END:VEVENT
END:VCALENDAR