BEGIN:VCALENDAR
VERSION:2.0
PRODID:-//6G IA - ECPv6.15.20//NONSGML v1.0//EN
CALSCALE:GREGORIAN
METHOD:PUBLISH
X-WR-CALNAME:6G IA
X-ORIGINAL-URL:https://6g-ia.eu
X-WR-CALDESC:Events for 6G IA
REFRESH-INTERVAL;VALUE=DURATION:PT1H
X-Robots-Tag:noindex
X-PUBLISHED-TTL:PT1H
BEGIN:VTIMEZONE
TZID:Europe/Berlin
BEGIN:DAYLIGHT
TZOFFSETFROM:+0100
TZOFFSETTO:+0200
TZNAME:CEST
DTSTART:20210328T010000
END:DAYLIGHT
BEGIN:STANDARD
TZOFFSETFROM:+0200
TZOFFSETTO:+0100
TZNAME:CET
DTSTART:20211031T010000
END:STANDARD
BEGIN:DAYLIGHT
TZOFFSETFROM:+0100
TZOFFSETTO:+0200
TZNAME:CEST
DTSTART:20220327T010000
END:DAYLIGHT
BEGIN:STANDARD
TZOFFSETFROM:+0200
TZOFFSETTO:+0100
TZNAME:CET
DTSTART:20221030T010000
END:STANDARD
BEGIN:DAYLIGHT
TZOFFSETFROM:+0100
TZOFFSETTO:+0200
TZNAME:CEST
DTSTART:20230326T010000
END:DAYLIGHT
BEGIN:STANDARD
TZOFFSETFROM:+0200
TZOFFSETTO:+0100
TZNAME:CET
DTSTART:20231029T010000
END:STANDARD
END:VTIMEZONE
BEGIN:VEVENT
DTSTART;TZID=Europe/Berlin:20221117T080000
DTEND;TZID=Europe/Berlin:20221117T160000
DTSTAMP:20260421T214528
CREATED:20220901T134034Z
LAST-MODIFIED:20220901T134034Z
UID:25176-1668672000-1668700800@6g-ia.eu
SUMMARY:5G-HEART Final Event
DESCRIPTION:During the last 42 months\, the EU funded project 5G-HEART has explored the innovative digital use cases of healthcare\, transportation and aquaculture. \n  \n\nIn healthcare\, we have selected three major use cases for e-health which will challenge the performance and availability of 5G services. All the use cases share a common vision of remote care or ‘hospitals without walls’: Use case H1: Remote Interventional Support\, Use case H2: Automatic pill camera anomaly detection\, and Use case H3: Vital-sign patches with advanced geo-location.\nIn transportation\, we have focused on various advanced use cases of the transport industry through enhanced wireless connectivity and increased automation\, which would pave the way to fully connected mobility and autonomous driving: Use case T1: Platooning\, Use case T2:Autonomous/ assisted driving\, Use case T3:Support for remote driving\, and Use case T4 Vehicle data services.\nIn aquaculture\, the use cases comprise of two pilot sites: The first site in Greece utilizes the 5G-EVE node and the second pilot in Norway uses the Norwegian node of 5G-VINNI to access the network. The aquaculture use case scenarios are summarized as follows: Use case A1 Remote monitoring of water and fish quality.\n\n  \nThe 5G-HEART final event will showcase the final results of 5G-HEART and take place in VTT Oulu\, Finland on 17th Nov. 2022. You can be free to attend. Registration is required here.
URL:https://6g-ia.eu/event/5g-heart-final-event/
END:VEVENT
END:VCALENDAR