BEGIN:VCALENDAR
VERSION:2.0
PRODID:-//6G IA - ECPv6.15.20//NONSGML v1.0//EN
CALSCALE:GREGORIAN
METHOD:PUBLISH
X-WR-CALNAME:6G IA
X-ORIGINAL-URL:https://6g-ia.eu
X-WR-CALDESC:Events for 6G IA
REFRESH-INTERVAL;VALUE=DURATION:PT1H
X-Robots-Tag:noindex
X-PUBLISHED-TTL:PT1H
BEGIN:VTIMEZONE
TZID:Europe/Berlin
BEGIN:DAYLIGHT
TZOFFSETFROM:+0100
TZOFFSETTO:+0200
TZNAME:CEST
DTSTART:20210328T010000
END:DAYLIGHT
BEGIN:STANDARD
TZOFFSETFROM:+0200
TZOFFSETTO:+0100
TZNAME:CET
DTSTART:20211031T010000
END:STANDARD
BEGIN:DAYLIGHT
TZOFFSETFROM:+0100
TZOFFSETTO:+0200
TZNAME:CEST
DTSTART:20220327T010000
END:DAYLIGHT
BEGIN:STANDARD
TZOFFSETFROM:+0200
TZOFFSETTO:+0100
TZNAME:CET
DTSTART:20221030T010000
END:STANDARD
BEGIN:DAYLIGHT
TZOFFSETFROM:+0100
TZOFFSETTO:+0200
TZNAME:CEST
DTSTART:20230326T010000
END:DAYLIGHT
BEGIN:STANDARD
TZOFFSETFROM:+0200
TZOFFSETTO:+0100
TZNAME:CET
DTSTART:20231029T010000
END:STANDARD
END:VTIMEZONE
BEGIN:VEVENT
DTSTART;TZID=Europe/Berlin:20220523T090000
DTEND;TZID=Europe/Berlin:20220524T170000
DTSTAMP:20260421T204441
CREATED:20220414T065339Z
LAST-MODIFIED:20220414T065339Z
UID:24808-1653296400-1653411600@6g-ia.eu
SUMMARY:1st Summer school on 5G automated mobility (CAM) across Europe
DESCRIPTION:The 1st Summer School on 5G Connected Automated Mobility (CAM) across Europe\, co-organized by the 5GCroCo and 5G-ROUTES projects with the support of the EU commission will take place on May 23-24 2022 in Sophia-Antipolis. \nThis event is a great occasion for young researchers and undergrad students to get insights on challenges of 5G for CAM in cross-border scenarios from senior researchers from academic or industrial background. Participation may be in person or virtual. \n 
URL:https://6g-ia.eu/event/1st-summer-school-on-5g-automated-mobility-cam-across-europe-2/
END:VEVENT
END:VCALENDAR